BEGIN:VCALENDAR
VERSION:2.0
PRODID:-//Alumni Association of University of Peradeniya-New Zealand Chapter Incorporated - ECPv4.6.1//NONSGML v1.0//EN
CALSCALE:GREGORIAN
METHOD:PUBLISH
X-WR-CALNAME:Alumni Association of University of Peradeniya-New Zealand Chapter Incorporated
X-ORIGINAL-URL:http://www.aaupnz.nz
X-WR-CALDESC:Events for Alumni Association of University of Peradeniya-New Zealand Chapter Incorporated
BEGIN:VEVENT
DTSTART;VALUE=DATE:20171125
DTEND;VALUE=DATE:20171126
DTSTAMP:20180123T140540
CREATED:20170213T094054Z
LAST-MODIFIED:20171116T054549Z
UID:188-1511568000-1511654399@www.aaupnz.nz
SUMMARY:Annual General Meeting of AAUPNZ
DESCRIPTION:\n\nAnnual General Meeting of AAUPNZ is planning on 28th November 2017. \n  \n\n\n
URL:http://www.aaupnz.nz/event/board-meeting/
END:VEVENT
END:VCALENDAR